BEGIN:VCALENDAR
VERSION:2.0
PRODID:-//Eurodesk - ECPv5.4.0.2//NONSGML v1.0//EN
CALSCALE:GREGORIAN
METHOD:PUBLISH
X-WR-CALNAME:Eurodesk
X-ORIGINAL-URL:https://eurodesk.sk
X-WR-CALDESC:Events for Eurodesk
BEGIN:VTIMEZONE
TZID:Europe/Paris
BEGIN:DAYLIGHT
TZOFFSETFROM:+0100
TZOFFSETTO:+0200
TZNAME:CEST
DTSTART:20240331T010000
END:DAYLIGHT
BEGIN:STANDARD
TZOFFSETFROM:+0200
TZOFFSETTO:+0100
TZNAME:CET
DTSTART:20241027T010000
END:STANDARD
END:VTIMEZONE
BEGIN:VEVENT
DTSTART;TZID=Europe/Paris:20240910T190000
DTEND;TZID=Europe/Paris:20240913T090000
DTSTAMP:20260422T191433
CREATED:20240521T120018Z
LAST-MODIFIED:20240521T120018Z
UID:26772-1725994800-1726218000@eurodesk.sk
SUMMARY:Konferencia Europe Talks Solidarity
DESCRIPTION:Ide o trojdňové podujatie\, ktoré začína 10. septembra 2024 večer večerou a končí 13. septembra raňajkami. Konferencia ponúkne priestor na dialóg o chápaní solidarity a jej súvislosti s aktívnou účasťou na demokratickom živote v Európe. Druhý rezidenčný ročník konferencie Europe Talks Solidarity spojí odborníkov\, ktorí prehĺbia pochopenie potenciálu solidarity v minulosti\, súčasnosti a budúcnosti a jej hodnoty pre demokraciu. Podujatie zároveň ponúkne prehľad o solidarite v oblasti mládeže. \nCiele podujatia sú: \n\nPonúknuť platformu na účasť v diskusiách o rôznych aspektoch a chápaní solidarity v roku 2024\nUčiť sa od odborníkov a rovesníkov o rôznych aspektoch solidarity\nOtvárať nové dimenzie v myslení o solidarite a dobrovoľníctve\nPreskúmať\, ako sa môže solidarita\, dobrovoľníctvo a demokracia navzájom spájať\n\nProfil účastníkov: \nEurope Talks Solidarity spojí okolo 70 ľudí z rôznych oblastí\, ktorí sa zaujímajú o tému solidarity. Kritériom výberu účastníkov je záujem o dialóg o solidarite\, prepojenie s témou solidarity a zastúpenie čo najrozmanitejších odvetví. Táto aktivita je pre vás vhodná\, ak pracujete v oblasti mládeže alebo v oblasti solidarity v občianskej spoločnosti. V rámci verejného sektora môžete zastupovať napr. ministerstvá\, vládne úrady\, kraje\, obce\, farnosti alebo v rámci občianskej spoločnosti\, napr. kultúrny sektor\, športový sektor\, environmentálny sektor\, zdravotnícke organizácie a organizácie so zdravotným postihnutím a náboženské skupiny. V rámci súkromného sektora môžete zastupovať napr. sociálne podniky alebo hnutia občianskej spoločnosti; ako sú influenceri\, producenti obsahu\, blogeri\, aktivisti. \nZistite viac o predošlom ročníku konferencie na www.talkingsolidarity.eu  \nV prípade záujmu sa môžete na konferenciu prihlásiť najneskôr do 16.6.2024 prostredníctvom tohto linku.  
URL:https://eurodesk.sk/skolenie-programu-erasmus/konferencia-europe-talks-solidarity/
LOCATION:Bratislava\, Slovenská republika
CATEGORIES:Konferencie,Medzinárodné školenia
ATTACH;FMTTYPE=image/png:https://eurodesk.sk/wp-content/uploads/2024/05/Call-for-Participants-ETS-Conf-2024-Square.png
ORGANIZER;CN="Mat%C3%BA%C5%A1%20Zibala":MAILTO:matus.zibala@nivam.sk
END:VEVENT
BEGIN:VEVENT
DTSTART;TZID=Europe/Paris:20240918T160000
DTEND;TZID=Europe/Paris:20240921T130000
DTSTAMP:20260422T191433
CREATED:20240710T122922Z
LAST-MODIFIED:20240710T123131Z
UID:26817-1726675200-1726923600@eurodesk.sk
SUMMARY:Youth Exchange Tester
DESCRIPTION:Máte nápad\, ale neviete ako ho zrealizovať? Radi by ste zorganizovali medzinárodný projekt pre mladých\, ale neviete ako na to? Chcete si vyskúšať prácu s medzinárodnou skupinou a vytvoriť napríklad výmenu mládeže? Česko-slovenské školenie „Youth Exchange Tester“ je ochutnávkou možností programu Erasmus+ pre mladých ľudí\, ktorí chcú zrealizovať svoj projekt. Školenie je zamerané na výmeny mládeže\, vzdelávacie mobility pracovníkov s mládežou a aktivity zamerané na participáciu mládeže (Kľúčová akcia 1). \nCiele aktivity: \n\npomôcť účastníkom premeniť nápady v realizovateľné projekty v rámci Kľúčovej akcie 1 programu Erasmus+\nzvýšiť kvalitu už existujúcich námetov na projekty\, ktoré doposiaľ neboli podporené\nsieťovanie českých a slovenských organizácií a neformálnych skupín mladých osôb\n\nV prípade záujmu sa môžete na školenie prihlásiť najneskôr do 4.9.2024 prostredníctvom tohto linku. 
URL:https://eurodesk.sk/skolenie-programu-erasmus/youth-exchange-tester/
LOCATION:Bratislava\, Slovenská republika
CATEGORIES:Medzinárodné školenia,Národné školenia
ATTACH;FMTTYPE=image/png:https://eurodesk.sk/wp-content/uploads/2024/07/Youth-Exchange-Tester-promo-pre-účastníkov.png
ORGANIZER;CN="Miroslav%20V%C3%ADtek":MAILTO:miroslav.vitek@nivam.sk
END:VEVENT
BEGIN:VEVENT
DTSTART;TZID=Europe/Paris:20241002T170000
DTEND;TZID=Europe/Paris:20241005T130000
DTSTAMP:20260422T191433
CREATED:20240730T113156Z
LAST-MODIFIED:20240730T113725Z
UID:26838-1727888400-1728133200@eurodesk.sk
SUMMARY:Študijná návšteva na tému inklúzie
DESCRIPTION:Zámer \nCieľom školenie vo forme študijnej návštevy je zvýšiť povedomie pracovníkov s mládežou o možnostiach\, ktoré ponúkajú programy Erasmus+ a Európsky zbor solidarity prostredníctvom predstavenia niekoľkých príkladov dobrej praxe. \n  \nCiele aktivity: \n\nObjaviť rôzne možnosti inkluzívnej práce s mládežou v rámci programov Erasmus+ a Európsky zbor solidarity\nMotivovať pracovníkov s mládežou\, aby si podávali inkluzívne projekty. Eliminovať obavy a prekážky\, aby boli schopní realizovať projekty.\nAnalyzovať a diskutovať o výzvach začleňovania ľudí so zdravotným znevýhodnením do aktivít programov Erasmus+ a ESC\nZoznámiť sa s rôznymi inkluzívnymi nástrojmi\, metódami a prístupmi\, ktoré môžu pomôcť tieto prekážky prekonávať.\nZdieľať dobré príklady praxe\, ako môžu inkluzívne projekty ovplyvniť osobné cesty cieľových skupín.\nPredstaviť koncept Strategického partnerstva pre inklúziu a motivovať účastníkov\, aby sa ďalej vzdelávali v téme inklúzie.\nNadviazať nové partnerstvá a motivovať účastníkov vytvárať medzinárodné partnerstvá\n\n  \nCieľová skupina: \nŠkolenie je určené: \n\n Pracovníkom s mládežou a mladým ľuďom\n Organizáciám\, ktoré nemajú skúsenosti s témou inklúzie ani s programami\n Organizáciám\, ktoré nemajú skúsenosti s témou inklúzie\, ale sú skúsenými žiadateľmi\n Organizáciám\, ktoré sú skúsené v téme inklúzie\, ale sú nové v oboch programoch\n Organizáciám\, ktoré sú skúsené v téme inklúzie\, a sú aj skúsenými žiadateľmi\n\nNa školenie môžete prísť aj viacerí kolegovia z jednej organizácie\, prípadne môžete prihlásiť aj samotných mladých ľudí so znevýhodnením\, s ktorými pracujete. \n  \nStrava\, ubytovanie a logistika \nStrava a ubytovanie budú zabezpečené Národnou agentúrou Erasmus+ pre oblasť mládeže a športu Slovensko prostredníctvom finančných prostriedkov programu Európsky zbor solidarity. Všetkým účastníkom budú poskytnuté jednolôžkové izby\, v prípade požiadania však vieme zaobstarať aj dvojlôžkové izby. Cestovné náklady budú po doložení originálnych cestovných lístkov preplatené v plnej výške. \n  \nV prípade záujmu sa môžete na školenie prihlásiť najneskôr do 15.9.2024 prostredníctvom tohto linku.   \n 
URL:https://eurodesk.sk/skolenie-programu-erasmus/studijna-navsteva-na-temu-inkluzie/
LOCATION:Bratislava\, Slovenská republika
CATEGORIES:Národné školenia
ATTACH;FMTTYPE=image/png:https://eurodesk.sk/wp-content/uploads/2024/07/Study-Visit-on-Inclusion-1.png
ORGANIZER;CN="Mat%C3%BA%C5%A1%20Zibala":MAILTO:matus.zibala@nivam.sk
END:VEVENT
END:VCALENDAR