BEGIN:VCALENDAR
VERSION:2.0
PRODID:-//Eurodesk - ECPv5.4.0.2//NONSGML v1.0//EN
CALSCALE:GREGORIAN
METHOD:PUBLISH
X-WR-CALNAME:Eurodesk
X-ORIGINAL-URL:https://eurodesk.sk
X-WR-CALDESC:Events for Eurodesk
BEGIN:VTIMEZONE
TZID:Europe/Paris
BEGIN:DAYLIGHT
TZOFFSETFROM:+0100
TZOFFSETTO:+0200
TZNAME:CEST
DTSTART:20200329T010000
END:DAYLIGHT
BEGIN:STANDARD
TZOFFSETFROM:+0200
TZOFFSETTO:+0100
TZNAME:CET
DTSTART:20201025T010000
END:STANDARD
END:VTIMEZONE
BEGIN:VEVENT
DTSTART;TZID=Europe/Paris:20200923T080000
DTEND;TZID=Europe/Paris:20200928T170000
DTSTAMP:20260424T040709
CREATED:20201005T140459Z
LAST-MODIFIED:20210317T191649Z
UID:24074-1600848000-1601312400@eurodesk.sk
SUMMARY:"ABC on voluntering mentorship" in the European Solidarity Corps
DESCRIPTION:Miesto konania: Mollina (Malaga)\, Španielsko \nTermín: 23. 9. - 28. 9. 2020 \nUzávierka prihlášok: 31. júl 2020 \nTyp aktivity: školenie \nKrátka charakteristika: Školenie je príležitosťou pre organizácie s bežiacimi projektmi v programe Európsky Zbor Solidarity\, ktoré majú záujem o vyškolenie ich mentorov (aj potenciálnych). Vidíme problém\, že dobrovoľnícki mentori majú veľkú mieru mobility a chýba kontinuita v ich práci ako mentorov. Niekedy sú len dobrovoľníkmi s takmer žiadnym prepojením na organizácie\, chýbajú im zdroje a nástroje na rozvoj ich úloh\, či základné informácie o programe Európsky Zbor Solidarity. Táto ponuka je pre mentorov\, či potenciálnych mentorov\, aby sa vyškolili v ich úlohe mentora\, išli hlbšie do podstaty dobrovoľníckych aktivít v rámci programu Európsky Zbor Solidarity\, našli nástroje pre ich každodennú prácu ako mentorov\, spoznali a podelili sa o reálne skúsenosti z ich projektov\, a získali znalosti potrebné pre lepšiu podporu dobrovoľníkov v rámci programu Európsky Zbor Solidarity. \nCiele aktivity: \n\nponúknuť účastníkom praktické a teoretické skúsenosti s mentorstvom dobrovoľníkov;\nporozumieť schéme dobrovoľníctva a rolám rôznych osôb v rámci dobrovoľníckych aktivít programu Európsky Zbor Solidarity;\nrozvíjať znalosti a zručnosti potrebné na podporu dobrovoľníkov\, najmä vzdelávacie procesy;\noboznámiť sa s rôznymi druhmi mentorstva;\ndostať odpovede na technické/praktické problémy;\nstretnúť sa s príkladmi dobrej praxe a vymeniť si skúsenosti;\nvymeniť si kontakty a vytvoriť nové partnerstvá;\nvytvoriť podpornú skupinu (sieť)\n\nPracovný jazyk: anglický jazyk \nCieľová skupina: dobrovoľnícki mentori \nPočet účastníkov: 2 účastníci zo SR \nNáklady spojené s účasťou na školení: Ubytovanie a strava sú hradené z prostriedkov programu Erasmus+. 90 % cestovných nákladov hradí účastníkovi slovenská Národná agentúra a 10 % si hradí účastník sám alebo hradí minimálne 20 EUR v prípade\, že sa jedná o menšiu sumu. Odporúčame\, aby si účastník zabezpečil aj cestovné poistenie počas doby trvania podujatia. \nKontaktná osoba: \nMgr. Matúš Zibala\ntel.: (+421-2) 59 29 63 13\nm.t.: (+421-917) 40 25 08\ne-mail: matus.zibala@iuventa.sk
URL:https://eurodesk.sk/skolenie-programu-erasmus/abc-on-voluntering-mentorship-in-the-european-solidarity-corps/
CATEGORIES:Medzinárodné školenia
ATTACH;FMTTYPE=image/png:https://eurodesk.sk/wp-content/uploads/2020/10/106393087_10157014583686292_3073166028520186796_n.png
END:VEVENT
END:VCALENDAR