BEGIN:VCALENDAR
VERSION:2.0
PRODID:-//Eurodesk - ECPv5.4.0.2//NONSGML v1.0//EN
CALSCALE:GREGORIAN
METHOD:PUBLISH
X-WR-CALNAME:Eurodesk
X-ORIGINAL-URL:https://eurodesk.sk
X-WR-CALDESC:Events for Eurodesk
BEGIN:VTIMEZONE
TZID:Europe/Paris
BEGIN:DAYLIGHT
TZOFFSETFROM:+0100
TZOFFSETTO:+0200
TZNAME:CEST
DTSTART:20220327T010000
END:DAYLIGHT
BEGIN:STANDARD
TZOFFSETFROM:+0200
TZOFFSETTO:+0100
TZNAME:CET
DTSTART:20221030T010000
END:STANDARD
END:VTIMEZONE
BEGIN:VEVENT
DTSTART;TZID=Europe/Paris:20220309T153000
DTEND;TZID=Europe/Paris:20220313T140000
DTSTAMP:20260423T231647
CREATED:20211026T081832Z
LAST-MODIFIED:20220221T134010Z
UID:25370-1646839800-1647180000@eurodesk.sk
SUMMARY:Non-formal education in practise
DESCRIPTION:Školenie je zamerané na preskúmanie rozdielov medzi formálnym a neformálnym vzdelávaním mládeže. Školenie chce účastníkov pripraviť na to ako správne používať neformálne vzdelávanie v praxi a tiež ako ho integrovať do projektov programov Európsky zbor solidarity a Erasmus+. Cieľom je pochopiť niekoľko prvkov a metód neformálneho vzdelávania a ich význam pri organizovaní vlastných aktivít prioritne v rámci projektov v oblasti solidarity. Prihlásiť sa je možné na tomto linku.
URL:https://eurodesk.sk/skolenie-programu-erasmus/non-formal-education-in-practise/
CATEGORIES:Národné školenia
ATTACH;FMTTYPE=image/png:https://eurodesk.sk/wp-content/uploads/2021/10/Non-formal-education-in-practise.png
END:VEVENT
END:VCALENDAR